BEGIN:VCALENDAR
VERSION:2.0
PRODID:-//Fishbourne Parish Council - ECPv6.15.18//NONSGML v1.0//EN
CALSCALE:GREGORIAN
METHOD:PUBLISH
X-WR-CALNAME:Fishbourne Parish Council
X-ORIGINAL-URL:https://www.fishbourne-pc.gov.uk
X-WR-CALDESC:Events for Fishbourne Parish Council
REFRESH-INTERVAL;VALUE=DURATION:PT1H
X-Robots-Tag:noindex
X-PUBLISHED-TTL:PT1H
BEGIN:VTIMEZONE
TZID:Europe/London
BEGIN:STANDARD
TZOFFSETFROM:+0100
TZOFFSETTO:+0000
TZNAME:GMT
DTSTART:19711031T020000
END:STANDARD
END:VTIMEZONE
BEGIN:VEVENT
DTSTART;TZID=Europe/London:19700101T010000
DTEND;TZID=Europe/London:19700101T010000
DTSTAMP:20260419T221842
CREATED:20190308T082710Z
LAST-MODIFIED:20190308T082710Z
UID:10000028-3600-3600@www.fishbourne-pc.gov.uk
SUMMARY:Parish Council Planning Meeting
DESCRIPTION:Meetings will be held in the Function Room at the Fishbourne Centre\, Blackboy Lane\, Fishbourne. The Parish Councillors welcome input from all members of the community\, and everyone is welcome to the meeting.
URL:https://www.fishbourne-pc.gov.uk/event/parish-council-planning-meeting-2/
LOCATION:The Fishbourne Centre\, Blackboy Lane\, Fishbourne\, Chichester\, PO18 8BE\, United Kingdom
CATEGORIES:Parish Council Meetings
ORGANIZER;CN="Fishbourne Parish Council":MAILTO:parishclerk@fishbourne-pc.gov.uk
GEO:50.8385179;-0.8184056
X-APPLE-STRUCTURED-LOCATION;VALUE=URI;X-ADDRESS=The Fishbourne Centre Blackboy Lane Fishbourne Chichester PO18 8BE United Kingdom;X-APPLE-RADIUS=500;X-TITLE=Blackboy Lane\, Fishbourne:geo:-0.8184056,50.8385179
END:VEVENT
END:VCALENDAR