BEGIN:VCALENDAR
VERSION:2.0
PRODID:-//Fishbourne Parish Council - ECPv6.15.18//NONSGML v1.0//EN
CALSCALE:GREGORIAN
METHOD:PUBLISH
X-WR-CALNAME:Fishbourne Parish Council
X-ORIGINAL-URL:https://www.fishbourne-pc.gov.uk
X-WR-CALDESC:Events for Fishbourne Parish Council
REFRESH-INTERVAL;VALUE=DURATION:PT1H
X-Robots-Tag:noindex
X-PUBLISHED-TTL:PT1H
BEGIN:VTIMEZONE
TZID:Europe/London
BEGIN:DAYLIGHT
TZOFFSETFROM:+0000
TZOFFSETTO:+0100
TZNAME:BST
DTSTART:20240331T010000
END:DAYLIGHT
BEGIN:STANDARD
TZOFFSETFROM:+0100
TZOFFSETTO:+0000
TZNAME:GMT
DTSTART:20241027T010000
END:STANDARD
BEGIN:DAYLIGHT
TZOFFSETFROM:+0000
TZOFFSETTO:+0100
TZNAME:BST
DTSTART:20250330T010000
END:DAYLIGHT
BEGIN:STANDARD
TZOFFSETFROM:+0100
TZOFFSETTO:+0000
TZNAME:GMT
DTSTART:20251026T010000
END:STANDARD
BEGIN:DAYLIGHT
TZOFFSETFROM:+0000
TZOFFSETTO:+0100
TZNAME:BST
DTSTART:20260329T010000
END:DAYLIGHT
BEGIN:STANDARD
TZOFFSETFROM:+0100
TZOFFSETTO:+0000
TZNAME:GMT
DTSTART:20261025T010000
END:STANDARD
END:VTIMEZONE
BEGIN:VEVENT
DTSTART;TZID=Europe/London:20251129T110000
DTEND;TZID=Europe/London:20251129T160000
DTSTAMP:20260420T001055
CREATED:20251023T091728Z
LAST-MODIFIED:20251023T091728Z
UID:10000071-1764414000-1764432000@www.fishbourne-pc.gov.uk
SUMMARY:Christmas Art & Craft Fair
DESCRIPTION:Get in the Spirit at Advent… \nChristmas Art & Craft Fair \nSaturday 29 November 11am – 4pm \nSt Peter’s Church Hall\, Fishbourne\, PO19 3XT \n\nstocking fillers\nartists’ gifts in card\, ceramic\, fabric\, glass\, wool\, paint\nChristmas Cafe\nChurch stall – jam\, candles\, plants\nraffle\ntombola\ncrib display inside church\n\nJoin our Advent carol service 4pm in the Church
URL:https://www.fishbourne-pc.gov.uk/event/christmas-art-craft-fair/
LOCATION:St Peter’s Place\, Fishbourne\, PO19 3XT
CATEGORIES:General Events
ATTACH;FMTTYPE=image/jpeg:https://www.fishbourne-pc.gov.uk/wp-content/uploads/2025/10/ChristmasFair.jpg
GEO:50.8330923;-0.8074831
END:VEVENT
END:VCALENDAR